BEGIN:VCALENDAR
PRODID:-//kirchenweb.ch gmbh//veranstaltungsausgabe v2.0//DE
VERSION:2.0
METHOD:PUBLISH
BEGIN:VEVENT
DTSTART:20241124T160000Z
DTEND:20241124T170000Z
LOCATION:Kirche Oberrieden\, \,
TRANSP:OPAQUE
SEQUENCE:0
UID:34634-veranstaltung@kirche-thalwil.ch
DTSTAMP:20240903T144817Z
DESCRIPTION:Es erwartet dich: ein Ort\, an dem Kirche für Jugendliche
  stattfindet ✮ spannende und \nlebensrelevante Themen ✮ biblische
  Bezüge zu deinem Alltag ✮ Livemusik von Jugendlichen\, ✮ entspannte
  Gemeinschaft im Anschluss bei Snacks und Getränken ✮\n\nKontakt:
  Jürg-Markus Meier\n\nWeitere Infos:
  https://www.kirche-thalwil.ch/veranstaltung/34634
SUMMARY:Jugendgottesdienst
PRIORITY:5
X-MICROSOFT-CDO-IMPORTANCE:1
CLASS:PUBLIC
END:VEVENT
END:VCALENDAR
