BEGIN:VCALENDAR
PRODID:-//kirchenweb.ch gmbh//veranstaltungsausgabe v2.0//DE
VERSION:2.0
METHOD:PUBLISH
BEGIN:VEVENT
DTSTART:20240928T090000Z
DTEND:20240928T110000Z
LOCATION:Kirchturm\, \,
TRANSP:OPAQUE
SEQUENCE:0
UID:34628-veranstaltung@kirche-thalwil.ch
DTSTAMP:20240701T073717Z
DESCRIPTION:Kontakt: Turmwächter-Team\n\nWeitere Infos:
  https://www.kirche-thalwil.ch/veranstaltung/34628
SUMMARY:Offener Kirchturm
PRIORITY:5
X-MICROSOFT-CDO-IMPORTANCE:1
CLASS:PUBLIC
END:VEVENT
END:VCALENDAR
