BEGIN:VCALENDAR
PRODID:-//kirchenweb.ch gmbh//veranstaltungsausgabe v2.0//DE
VERSION:2.0
METHOD:PUBLISH
BEGIN:VEVENT
DTSTART:20241024T150000Z
DTEND:20241024T173000Z
LOCATION:Kirchgemeindehaus\, Alte Landstrasse 93a\, 8800 Thalwil
TRANSP:OPAQUE
SEQUENCE:0
UID:34240-veranstaltung@kirche-thalwil.ch
DTSTAMP:20240923T140357Z
DESCRIPTION:Kontakt: Gabriela Schöb\n\nWeitere Infos:
  https://www.kirche-thalwil.ch/veranstaltung/34240
SUMMARY:Probe Weihnachtsspiel
PRIORITY:5
X-MICROSOFT-CDO-IMPORTANCE:1
CLASS:PUBLIC
END:VEVENT
END:VCALENDAR
