BEGIN:VCALENDAR
PRODID:-//kirchenweb.ch gmbh//veranstaltungsausgabe v2.0//DE
VERSION:2.0
METHOD:PUBLISH
BEGIN:VEVENT
DTSTART:20241004T160000Z
DTEND:20241004T170000Z
LOCATION:Wien\, \,
TRANSP:OPAQUE
SEQUENCE:0
UID:34195-veranstaltung@kirche-thalwil.ch
DTSTAMP:20250523T074754Z
DESCRIPTION:Jugendliche zwischen 15 und 25 aus den H2OT-Gemeinden Horgen\,
  Oberrieden und Thalwil reisen gemeinsam ein verlängertes Wochenende nach
  Wien. Spiritualität\, Kultur und Stadtleben: jeweils am Morgen gibt es
  ein Programm\, der Nachmittag steht zur freien Verfügung. Kommst du mit
  auf Entdeckungstour? Das Schloss Schönbrunn\, die Domkirche\, die
  Staatsoper\, die Nationalbibliothek\, das historischen Zentrum und viele
  Plätze zum Verweilen und für den Ausgang am Abend warten auf unsere
  Entdeckung.\n\nDatum: Freitag\, 4. Oktober Abend bis Mittwoch\, 9.
  Oktober - genaue Infos zu Zeit und Ort folgen noch.\n
 \nAlter:15-25-jährige\n\nWo: Wir wohnen im Wombat's City Hostel Vienna\n
 \nKosten: 380.– Fr.\nfür Unterkunft\, Anreise\, ÖV\, Frühstück\,
  Abendessen und Eintritte im offiziellen Programm.\nMittagessen und
  Programm an Nachmittag ist auf eigene Kosten.\n\nTeam\nPfr. Renato
  Pfeffer\, Pfr. Jürg-Markus Meier\, Nina Nüesch\n\nVorbereitungsabend:
 \nWir treffen uns am 23. August ab 18:30 am Abend\, um eure Wünsche in
  unser Programm aufzunehmen - der Anlass ist freiwillig\, aber empfohlen
  :-).\n\n\nKontakt: renato.pfeffer@kirche-thalwil.ch\n\nWeitere Infos:
  https://www.kirche-thalwil.ch/veranstaltung/34195
SUMMARY:K16+ H2OT Städtereise Wien
PRIORITY:5
X-MICROSOFT-CDO-IMPORTANCE:1
CLASS:PUBLIC
END:VEVENT
END:VCALENDAR
