BEGIN:VCALENDAR
PRODID:-//kirchenweb.ch gmbh//veranstaltungsausgabe v2.0//DE
VERSION:2.0
METHOD:PUBLISH
BEGIN:VEVENT
DTSTART:20240921T113000Z
DTEND:20240921T140000Z
LOCATION:Kirchgemeindehaus\, Alte Landstrasse 93a\, 8800 Thalwil
TRANSP:OPAQUE
SEQUENCE:0
UID:34147-veranstaltung@kirche-thalwil.ch
DTSTAMP:20240906T091729Z
DESCRIPTION:Die Kleidertauschbörse ist eine nachhaltige Alternative zum
  unreflektierten Kleiderkonsum\, unter dem Motto: «tauschen statt
  kaufen» und kombiniert so Mode- & Umweltbewusstsein.\n\nSo
  funktioniert’s: Kleiderschrank ausmisten und mind. 1\, max. zehn gut
  erhaltene und frisch gewaschene Kleidungsstücke\, Schuhe sowie
  Accessoires mitbringen. Bitte bringe nur Kleidungsstücke mit\, in die
  sich andere neu verlieben können. Kaputte oder verwaschene
  Kleidungsstücke geben wir vor Ort zurück. Bitte keine Unterwäsche
  mitbringen. Kleiderannahme und Bistro: ab 13.30 Uhr Kleider können auch
  während der Tauschbörse ab 14 Uhr noch abgegeben werden.\n\nEintritt:
  zugunsten Verein walk-in closet: CHF 10.–\n(für Walk-in Closet
  Gönner/innen gratis. Für Menschen mit Kulturlegi oder F/S-Ausweis Fr.
  5.-\, wenn nur Kleider bezogen werden\, gratis wenn getauscht wird).
 \nFragen: Jessica Salminen\, 079 930 39 81 gibt gerne Auskunft.\n
 \nKontakt: Felix Känzig-Wolf\n\nWeitere Infos:
  https://www.kirche-thalwil.ch/veranstaltung/34147
SUMMARY:Kleidertausch mit Bistro
PRIORITY:5
X-MICROSOFT-CDO-IMPORTANCE:1
CLASS:PUBLIC
END:VEVENT
END:VCALENDAR
