BEGIN:VCALENDAR
PRODID:-//kirchenweb.ch gmbh//veranstaltungsausgabe v2.0//DE
VERSION:2.0
METHOD:PUBLISH
BEGIN:VEVENT
DTSTART:20241109T080000Z
DTEND:20241109T123000Z
LOCATION:Kirchgemeindehaus\, \,
TRANSP:OPAQUE
SEQUENCE:0
UID:34110-veranstaltung@kirche-thalwil.ch
DTSTAMP:20240703T133306Z
DESCRIPTION:Kontakt: Angela Rothbrust\n\nWeitere Infos:
  https://www.kirche-thalwil.ch/veranstaltung/34110
SUMMARY:Unti 4 you Familienanlass
PRIORITY:5
X-MICROSOFT-CDO-IMPORTANCE:1
CLASS:PUBLIC
END:VEVENT
END:VCALENDAR
