BEGIN:VCALENDAR
PRODID:-//kirchenweb.ch gmbh//veranstaltungsausgabe v2.0//DE
VERSION:2.0
METHOD:PUBLISH
BEGIN:VEVENT
DTSTART:20241111T160000Z
DTEND:20241111T193000Z
LOCATION:Kirche\, Platte\, 8800 Thalwil
TRANSP:OPAQUE
SEQUENCE:0
UID:34066-veranstaltung@kirche-thalwil.ch
DTSTAMP:20241022T084835Z
DESCRIPTION:In diesem Jahr 2024 fällt der Martinstag auf einen Montag.
  Auch wenn es der erste Werktag ist\, so\nfindet das Martini-Fäscht in
  gewohntem Rahmen statt: \n\nDer Plattenplatz ist gesperrt\, das Feuer
  brennt\, die Kinder brechen zum Laternenumzug auf und\nfolgen Ritter
  Martin\, Speis und Trank wird abgegeben und vor dem Auftritt der
  «Guggen» erklingen\nMartinslieder. Es möge unter dem Zeichen einer
  barmherzigen Tat ein heiteres Zusammensein\nsein\, die unter und durch
  uns weiterwirkt und für die Gesellschaft Modellcharakter hat.
  Geldspenden\nkommen unserer Solidaritätskasse zugute.\nPfr.
  Jürg-Markus Meier\n\nKontakt: Jürg-Markus Meier\n\nWeitere Infos:
  https://www.kirche-thalwil.ch/veranstaltung/34066
SUMMARY:Martini-Fäscht
PRIORITY:5
X-MICROSOFT-CDO-IMPORTANCE:1
CLASS:PUBLIC
END:VEVENT
END:VCALENDAR
