BEGIN:VCALENDAR
PRODID:-//kirchenweb.ch gmbh//veranstaltungsausgabe v2.0//DE
VERSION:2.0
METHOD:PUBLISH
BEGIN:VEVENT
DTSTART:20241025T164500Z
DTEND:20241025T200000Z
LOCATION:Pfarrhaus Platte\, Alte Landstrasse 86\, 8800 Thalwil
TRANSP:OPAQUE
SEQUENCE:0
UID:34065-veranstaltung@kirche-thalwil.ch
DTSTAMP:20250328T093020Z
DESCRIPTION:Kontakt: Jürg-Markus Meier\n\nWeitere Infos:
  https://www.kirche-thalwil.ch/veranstaltung/34065
SUMMARY:Männertreff im Pfarrhausgarten
PRIORITY:5
X-MICROSOFT-CDO-IMPORTANCE:1
CLASS:PUBLIC
END:VEVENT
END:VCALENDAR
