BEGIN:VCALENDAR
PRODID:-//kirchenweb.ch gmbh//veranstaltungsausgabe v2.0//DE
VERSION:2.0
METHOD:PUBLISH
BEGIN:VEVENT
DTSTART:20241212T183000Z
DTEND:20241212T210000Z
LOCATION:Kirchgemeindehaus\, Alte Landstrasse 93a\, 8800 Thalwil
TRANSP:OPAQUE
SEQUENCE:0
UID:33827-veranstaltung@kirche-thalwil.ch
DTSTAMP:20241211T113418Z
DESCRIPTION:Die Andere Adventsfeier\, das heisst TExte\, Musik und Impuse
  wechseln sich ab. Eine adventliche Teilete bei Glühwein\, Tee und
  Kerzenlicht schliess unser gemütliches und besinnliches Beisammensein
  ab.\nWillkommen sind Frauen jeden Alters. \n\nKontakt: Julia Matucci-Gros
 \n\nWeitere Infos: https://www.kirche-thalwil.ch/veranstaltung/33827
SUMMARY:Die andere Adventsfeier
PRIORITY:5
X-MICROSOFT-CDO-IMPORTANCE:1
CLASS:PUBLIC
END:VEVENT
END:VCALENDAR
