BEGIN:VCALENDAR
PRODID:-//kirchenweb.ch gmbh//veranstaltungsausgabe v2.0//DE
VERSION:2.0
METHOD:PUBLISH
BEGIN:VEVENT
DTSTART:20240914T170000Z
DTEND:20240914T180000Z
LOCATION:Kirche\, Platte\, 8800 Thalwil
TRANSP:OPAQUE
SEQUENCE:0
UID:33690-veranstaltung@kirche-thalwil.ch
DTSTAMP:20240909T070742Z
DESCRIPTION:Ensemble Volks/Lied/Kunst: \nManuela Lehner-Mutter\,
  Jodelgesang\nFranziska Heinzen\, Gesang\nSarah Brunner\, Orgel\n\nErleben
  Sie einen unvergesslichen Abend mit Volks- und Kunstliedern aus dem
  Wallis und der Fremde! Die drei weit über die Kantonsgrenzen bekannten
  Oberwalliser Musiker:innen Manuela Lehner-Mutter\, Jodelgesang\,
  Franziska Heinzen\, klassischer Gesang und Sarah Brunner\, Orgel\,
  gestalten einen musikalischen Alpabzug zwischen Volkslied und Kunstlied.
  Tauchen Sie ein in eine musikalische Reise\, die die Schönheit und
  Vielseitigkeit der Walliser Traditionen mit dem klassischen Kunstlied
  verbindet. Dabei erklingen walliserdeutsche Jodellieder von Gregor
  Brantschen\, Felix Schmid oder Eigenkompositionen von Manuela
  Lehner-Mutter sowie Kunstlieder von Eugen Meier und Felix Mendelssohn und
  bekannte Schweizer Volkslieder.\n\n\n\n\nKontakt: Gabriela Schöb\,
  Kantorin\n\nWeitere Infos:
  https://www.kirche-thalwil.ch/veranstaltung/33690
SUMMARY:Thalwiler Konzerte – Serenade «Über Berg und Tal»
PRIORITY:5
X-MICROSOFT-CDO-IMPORTANCE:1
CLASS:PUBLIC
END:VEVENT
END:VCALENDAR
