BEGIN:VCALENDAR
PRODID:-//kirchenweb.ch gmbh//veranstaltungsausgabe v2.0//DE
VERSION:2.0
METHOD:PUBLISH
BEGIN:VEVENT
DTSTART:20240921T170000Z
DTEND:20240921T183000Z
LOCATION:Pflanzenlabyrinth an der Russistrasse\, \,
TRANSP:OPAQUE
SEQUENCE:0
UID:33546-veranstaltung@kirche-thalwil.ch
DTSTAMP:20240108T094020Z
DESCRIPTION:Kontakt: Jürg-Markus Meier\n\nWeitere Infos:
  https://www.kirche-thalwil.ch/veranstaltung/33546
SUMMARY:Jahreszeitenfeier im Labyrinth
PRIORITY:5
X-MICROSOFT-CDO-IMPORTANCE:1
CLASS:PUBLIC
END:VEVENT
END:VCALENDAR
