BEGIN:VCALENDAR
PRODID:-//kirchenweb.ch gmbh//veranstaltungsausgabe v2.0//DE
VERSION:2.0
METHOD:PUBLISH
BEGIN:VEVENT
DTSTART:20241108T143000Z
DTEND:20241108T153000Z
LOCATION:Kirchgemeindehaus\, alte Landstrasse\, 93a\, 8800 Thalwil
TRANSP:OPAQUE
SEQUENCE:0
UID:33528-veranstaltung@kirche-thalwil.ch
DTSTAMP:20240719T123625Z
DESCRIPTION:Kontakt: Felix Känzig-Wolf\n\nWeitere Infos:
  https://www.kirche-thalwil.ch/veranstaltung/33528
SUMMARY:Tischlein deck dich Abgabe
PRIORITY:5
X-MICROSOFT-CDO-IMPORTANCE:1
CLASS:PUBLIC
END:VEVENT
END:VCALENDAR
