BEGIN:VCALENDAR
PRODID:-//kirchenweb.ch gmbh//veranstaltungsausgabe v2.0//DE
VERSION:2.0
METHOD:PUBLISH
BEGIN:VEVENT
DTSTART:20241112T130000Z
DTEND:20241112T150000Z
LOCATION:Kirchgemeindehaus\, alte Landstrasse\, 93a\,  Thalwil
TRANSP:OPAQUE
SEQUENCE:0
UID:33287-veranstaltung@kirche-thalwil.ch
DTSTAMP:20231215T114529Z
DESCRIPTION:Kontakt: Felix Känzig-Wolf\n\nWeitere Infos:
  https://www.kirche-thalwil.ch/veranstaltung/33287
SUMMARY:Lismi-Frauen
PRIORITY:5
X-MICROSOFT-CDO-IMPORTANCE:1
CLASS:PUBLIC
END:VEVENT
END:VCALENDAR
