BEGIN:VCALENDAR
PRODID:-//kirchenweb.ch gmbh//veranstaltungsausgabe v2.0//DE
VERSION:2.0
METHOD:PUBLISH
BEGIN:VEVENT
DTSTART:20240904T100000Z
DTEND:20240904T101500Z
LOCATION:Kirche\, Platte\, 8800 Thalwil
TRANSP:OPAQUE
SEQUENCE:0
UID:33256-veranstaltung@kirche-thalwil.ch
DTSTAMP:20231207T095440Z
DESCRIPTION:Stille – Wort – Musik\n\nKontakt:
  martina.gerisch@kirche-thalwil.ch\n\nWeitere Infos:
  https://www.kirche-thalwil.ch/veranstaltung/33256
SUMMARY:Innehalten um 12
PRIORITY:5
X-MICROSOFT-CDO-IMPORTANCE:1
CLASS:PUBLIC
END:VEVENT
END:VCALENDAR
