BEGIN:VCALENDAR
PRODID:-//kirchenweb.ch gmbh//veranstaltungsausgabe v2.0//DE
VERSION:2.0
METHOD:PUBLISH
BEGIN:VEVENT
DTSTART:20241125T133000Z
DTEND:20241125T143000Z
LOCATION:Serata\, Tischenloostrasse 55\, 8800 Thalwil
TRANSP:OPAQUE
SEQUENCE:0
UID:33230-veranstaltung@kirche-thalwil.ch
DTSTAMP:20240827T064433Z
DESCRIPTION:In einem Raum auf der Ebene feiern wir Gottesdienst. Gäste
  von auswärts sind willkommen. \n\nKontakt: Arend Hoyer\n\nWeitere Infos:
  https://www.kirche-thalwil.ch/veranstaltung/33230
SUMMARY:Gottesdienst im Serata Ebene E
PRIORITY:5
X-MICROSOFT-CDO-IMPORTANCE:1
CLASS:PUBLIC
END:VEVENT
END:VCALENDAR
