BEGIN:VCALENDAR
PRODID:-//kirchenweb.ch gmbh//veranstaltungsausgabe v2.0//DE
VERSION:2.0
METHOD:PUBLISH
BEGIN:VEVENT
DTSTART:20241028T133000Z
DTEND:20241028T143000Z
LOCATION:Serata\, Tischenloostrasse 55\, 8800 Thalwil
TRANSP:OPAQUE
SEQUENCE:0
UID:33229-veranstaltung@kirche-thalwil.ch
DTSTAMP:20231204T145857Z
DESCRIPTION:In einem Raum auf der Ebene feiern wir Gottesdienst. Gäste
  von auswärts sind willkommen. \n\nKontakt: Arend Hoyer\n\nWeitere Infos:
  https://www.kirche-thalwil.ch/veranstaltung/33229
SUMMARY:Gottesdienst im Serata Ebene E
PRIORITY:5
X-MICROSOFT-CDO-IMPORTANCE:1
CLASS:PUBLIC
END:VEVENT
END:VCALENDAR
