BEGIN:VCALENDAR
PRODID:-//kirchenweb.ch gmbh//veranstaltungsausgabe v2.0//DE
VERSION:2.0
METHOD:PUBLISH
BEGIN:VEVENT
DTSTART:20241028T150000Z
DTEND:20241028T163000Z
LOCATION:Serata\, Andachtsraum auf der Ebene D\, Tischenloostrasse 55\,
  8800 Thalwil
TRANSP:OPAQUE
SEQUENCE:0
UID:33219-veranstaltung@kirche-thalwil.ch
DTSTAMP:20231204T145749Z
DESCRIPTION:Wir versuchen\, Fragen unserer Zeit mit Aussagen der Bibel ins
  Gespräch zu bringen und umgekehrt. \n\nKontakt: Arend Hoyer\n\nWeitere
  Infos: https://www.kirche-thalwil.ch/veranstaltung/33219
SUMMARY:Die Bibel verstehen
PRIORITY:5
X-MICROSOFT-CDO-IMPORTANCE:1
CLASS:PUBLIC
END:VEVENT
END:VCALENDAR
