BEGIN:VCALENDAR
PRODID:-//kirchenweb.ch gmbh//veranstaltungsausgabe v2.0//DE
VERSION:2.0
METHOD:PUBLISH
BEGIN:VEVENT
DTSTART:20241028T181500Z
DTEND:20241028T201500Z
LOCATION:Kirchgemeindehaus\, Alte Landstrasse 93a\, 8800 Thalwil
TRANSP:OPAQUE
SEQUENCE:0
UID:33206-veranstaltung@kirche-thalwil.ch
DTSTAMP:20231204T145143Z
DESCRIPTION:Wir lesen Texte aus der Bibel und versuchen\, deren Sinn für
  unsere heutige Zeit zu erschliessen.\n\n\nKontakt: Arend Hoyer\n\nWeitere
  Infos: https://www.kirche-thalwil.ch/veranstaltung/33206
SUMMARY:Die Bibel aktuell erlebt
PRIORITY:5
X-MICROSOFT-CDO-IMPORTANCE:1
CLASS:PUBLIC
END:VEVENT
END:VCALENDAR
