BEGIN:VCALENDAR
PRODID:-//kirchenweb.ch gmbh//veranstaltungsausgabe v2.0//DE
VERSION:2.0
METHOD:PUBLISH
BEGIN:VEVENT
DTSTART:20241122T091500Z
DTEND:20241122T101500Z
LOCATION:Serata\, Tischenloostrasse 55\, 8800 Thalwil
TRANSP:OPAQUE
SEQUENCE:0
UID:33156-veranstaltung@kirche-thalwil.ch
DTSTAMP:20240606T070740Z
DESCRIPTION:Reformierter Segnungsgottesdienst Andachtsraum Serata \n
 \nKontakt: Arend Hoyer\n\nWeitere Infos:
  https://www.kirche-thalwil.ch/veranstaltung/33156
SUMMARY:Reformierter Segnungsgottesdienst
PRIORITY:5
X-MICROSOFT-CDO-IMPORTANCE:1
CLASS:PUBLIC
END:VEVENT
END:VCALENDAR
