BEGIN:VCALENDAR
PRODID:-//kirchenweb.ch gmbh//veranstaltungsausgabe v2.0//DE
VERSION:2.0
METHOD:PUBLISH
BEGIN:VEVENT
DTSTART:20241011T081500Z
DTEND:20241011T091500Z
LOCATION:im Serata\, Tischenloostrasse 55\, 8800 Thalwil
TRANSP:OPAQUE
SEQUENCE:0
UID:33154-veranstaltung@kirche-thalwil.ch
DTSTAMP:20231130T183900Z
DESCRIPTION:Reformierter Gottesdienst im Andachtsraum Serata\n\nKontakt:
  Arend Hoyer\n\nWeitere Infos:
  https://www.kirche-thalwil.ch/veranstaltung/33154
SUMMARY:Reformierter Abendmahlsgottesdienst im Serata
PRIORITY:5
X-MICROSOFT-CDO-IMPORTANCE:1
CLASS:PUBLIC
END:VEVENT
END:VCALENDAR
