BEGIN:VCALENDAR
PRODID:-//kirchenweb.ch gmbh//veranstaltungsausgabe v2.0//DE
VERSION:2.0
METHOD:PUBLISH
BEGIN:VEVENT
DTSTART:20241203T133000Z
DTEND:20241203T153000Z
LOCATION:Serata\, Tischenloostrasse 55\, 8800 Thalwil
TRANSP:OPAQUE
SEQUENCE:0
UID:33126-veranstaltung@kirche-thalwil.ch
DTSTAMP:20241202T173221Z
DESCRIPTION:Singen - einfach so\nHerzlich willkommen beim Singkreis im
  Advent!\nMit den Bewohner:innen des Serata singen wir alte und jung
  gebliebene Advents- und Weihnachtslieder\, hören eine Geschichte und
  sitzen nachher noch beim Café zusammen.\n\nKontakt: Gabriela Schöb\,
  Kantorin\n\nWeitere Infos:
  https://www.kirche-thalwil.ch/veranstaltung/33126
SUMMARY:Singkreis im Advent
PRIORITY:5
X-MICROSOFT-CDO-IMPORTANCE:1
CLASS:PUBLIC
END:VEVENT
END:VCALENDAR
