BEGIN:VCALENDAR
PRODID:-//kirchenweb.ch gmbh//veranstaltungsausgabe v2.0//DE
VERSION:2.0
METHOD:PUBLISH
BEGIN:VEVENT
DTSTART:20241106T111500Z
DTEND:20241106T123000Z
LOCATION:Kirchgemeindehaus\, alte Landstrasse\, 93a\,
TRANSP:OPAQUE
SEQUENCE:0
UID:33111-veranstaltung@kirche-thalwil.ch
DTSTAMP:20231116T164755Z
DESCRIPTION:Kontakt: Felix Känzig-Wolf\n\nWeitere Infos:
  https://www.kirche-thalwil.ch/veranstaltung/33111
SUMMARY:Encontromittagessen der Ökumene
PRIORITY:5
X-MICROSOFT-CDO-IMPORTANCE:1
CLASS:PUBLIC
END:VEVENT
END:VCALENDAR
