BEGIN:VCALENDAR
PRODID:-//kirchenweb.ch gmbh//veranstaltungsausgabe v2.0//DE
VERSION:2.0
METHOD:PUBLISH
BEGIN:VEVENT
DTSTART:20241210T140000Z
DTEND:20241210T163000Z
LOCATION:Kirchgemeindehaus\, alte Landstrasse\, 93a\, 8800 Thalwil
TRANSP:OPAQUE
SEQUENCE:0
UID:33096-veranstaltung@kirche-thalwil.ch
DTSTAMP:20241203T133735Z
DESCRIPTION:Kontakt: Felix Känzig-Wolf\n\nWeitere Infos:
  https://www.kirche-thalwil.ch/veranstaltung/33096
SUMMARY:Ökum. Seniorenadventsfeier
PRIORITY:5
X-MICROSOFT-CDO-IMPORTANCE:1
CLASS:PUBLIC
END:VEVENT
END:VCALENDAR
