BEGIN:VCALENDAR
PRODID:-//kirchenweb.ch gmbh//veranstaltungsausgabe v2.0//DE
VERSION:2.0
METHOD:PUBLISH
BEGIN:VEVENT
DTSTART:20250101T160000Z
DTEND:20250101T170000Z
LOCATION:Kirche\, Platte\, 8800 Thalwil
TRANSP:OPAQUE
SEQUENCE:0
UID:33074-veranstaltung@kirche-thalwil.ch
DTSTAMP:20250714T095506Z
DESCRIPTION:Die eigenartige Nähe Jesu als Neugeborenes zur Tierwelt\nin
  der christlichen Tradition wird hin und wieder Jesu Nähe zu Tieren
  gepriesen wie in einer apokryphen Schrift\, in welcher Ochs und Esel das
  neugeborene Jesuskind "unaufhörlich" anbeten
  (Pseudo-Matthäus-Evangelium 14\,1). \nBeinahe nebenbei beschreibt das
  Markusevangelium\, wie es während seines Aufenthaltes in der Wüste zu
  einem "Zusammenleben" zwischen Jesus und den "Wilden Tieren" kommt
  (Markus 1\,13)\nIn einer Zeit zunehmender globalen Entfremdung zwischen
  Menschen- und Tierwelt wirken solche Erzählungen wohltuend und zeigen
  Wege zu einem versöhnten Miteinander der Geschöpfe auf. \n\n\nKontakt:
  Arend Hoyer\n\nWeitere Infos:
  https://www.kirche-thalwil.ch/veranstaltung/33074
SUMMARY:Gottesdienst zu Neujahr
PRIORITY:5
X-MICROSOFT-CDO-IMPORTANCE:1
CLASS:PUBLIC
END:VEVENT
END:VCALENDAR
