BEGIN:VCALENDAR
PRODID:-//kirchenweb.ch gmbh//veranstaltungsausgabe v2.0//DE
VERSION:2.0
METHOD:PUBLISH
BEGIN:VEVENT
DTSTART:20241231T170000Z
DTEND:20241231T180000Z
LOCATION:Kirche\, Platte\, 8800 Thalwil
TRANSP:OPAQUE
SEQUENCE:0
UID:33060-veranstaltung@kirche-thalwil.ch
DTSTAMP:20241218T125702Z
DESCRIPTION:Die Flucht nach Ägypten (Mt 2\,13-23)\n\nWie die Heilige
  Familie geht auch unser Planet düsteren Zeiten entgegen. Laut dem
  Matthäusevangelium müssen Josef\, Maria mit dem Säugling nach Ägypten
  fliehen\, um der Verfolgung durch den König Herodes zu entkommen. Der
  biblische Bericht ist eher trocken verfasst. Die Legenden um diesen
  Vorfall herum sind weit blumiger\, sodass wir trotz der aktuellen
  Düsternis immer noch ein wenig Weihnachten feiern dürfen.\n\nDurch die
  Feier führen\nElisabeth Korner\, Diakonin der katholischen Kirche
 \nStefan Gisiger\, Pastor der Babptistengemeinde \nArend Hoyer\, Pfarrer
  der reformierten Kirchgemeinde \n\nGerda Dillmann\, Organistin\, hilft
  musikalisch der Heiligen Familie die Wüstenwanderung zu bestehen. \n
 \nKontakt: Arend Hoyer\n\nWeitere Infos:
  https://www.kirche-thalwil.ch/veranstaltung/33060
SUMMARY:Ökumenischer Gottesdienst an Silvester
PRIORITY:5
X-MICROSOFT-CDO-IMPORTANCE:1
CLASS:PUBLIC
END:VEVENT
END:VCALENDAR
