BEGIN:VCALENDAR
PRODID:-//kirchenweb.ch gmbh//veranstaltungsausgabe v2.0//DE
VERSION:2.0
METHOD:PUBLISH
BEGIN:VEVENT
DTSTART:20241208T090000Z
DTEND:20241208T100000Z
LOCATION:Kirche\, Platte\, 8800 Thalwil
TRANSP:OPAQUE
SEQUENCE:0
UID:33053-veranstaltung@kirche-thalwil.ch
DTSTAMP:20241206T130938Z
DESCRIPTION:Feiern Sie aktiv mit\, stimmen Sie ein! Vor dem Gottesdienst
  treffen wir uns um 9 Uhr in der Kirche. Gemeinsam singen wir die Lieder
  für den Gottesdienst\, frischen Altes auf und lernen Neues kennen.
  Danach stärken wir uns mit Kaffee und Zopf. Mit dabei sind an diesem
  Sonntag auch die Konfirmandinnen und Konfirmanden.\nIm Gottesdienst
  setzen wir uns in die Gemeinde und lassen den Gesang kräftig klingen. Es
  sind keine Vorkenntnisse nötig. Wer Freude am Singen hat\, ist herzlich
  willkommen. \nDiesmal begleiten uns und die Konfklassen die vier jungen
  Musiker:innen von Ecuador Brass\, die uns schon am Adventsmarkt mit ihren
  Klängen und ihren Handwerksarbeiten besucht haben. Auch die wundervollen
  Webe- und Lederarbeiten aus ihrem Projekt bringen sie wieder mit.\n\n
 \nKontakt: Jürg-Markus Meier\n\nWeitere Infos:
  https://www.kirche-thalwil.ch/veranstaltung/33053
SUMMARY:Gottesdienst zum 2. Advent mit Einsingen
PRIORITY:5
X-MICROSOFT-CDO-IMPORTANCE:1
CLASS:PUBLIC
END:VEVENT
END:VCALENDAR
