BEGIN:VCALENDAR
PRODID:-//kirchenweb.ch gmbh//veranstaltungsausgabe v2.0//DE
VERSION:2.0
METHOD:PUBLISH
BEGIN:VEVENT
DTSTART:20241110T090000Z
DTEND:20241110T110000Z
LOCATION:Kirche\, Platte\, 8800 Thalwil
TRANSP:OPAQUE
SEQUENCE:0
UID:33049-veranstaltung@kirche-thalwil.ch
DTSTAMP:20241104T082648Z
DESCRIPTION:Diesmal FamilienKirche zuvor mit Einsingen: Das heisst: Um 9
  Uhr Treffpunkt für alle Singenden\, gross und kllein\, in der Kirche.
  Gemeinsam singen wir die Lieder für den Gottesdienst\, frischen Altes
  auf und lernen Neues kennen. Danach stärken wir uns mit Kaffee und Zopf.
 \n\nIn der FamilienKirche setzen wir uns in die Gemeinde und lassen den
  Gesang kräftig klingen. Es sind keine Vorkenntnisse nötig. Wer Freude
  am Singen hat\, ist herzlich willkommen.\n\nThema dieser FamilienKirche
  sind die Kinder als Glaubensvorbilder. Was heisst kindlich glauben?\nDie
  Katechetinnen\, Angela Rothbrust\, Ursina Walter und Muriel Numao freuen
  sich auf einen lebendige FamilieKirche.\n\nKontakt: Julia Matucci-Gros\n
 \nWeitere Infos: https://www.kirche-thalwil.ch/veranstaltung/33049
SUMMARY:FamilienKirche mit Einsingen und 3. Klass Kindern
PRIORITY:5
X-MICROSOFT-CDO-IMPORTANCE:1
CLASS:PUBLIC
END:VEVENT
END:VCALENDAR
