BEGIN:VCALENDAR
PRODID:-//kirchenweb.ch gmbh//veranstaltungsausgabe v2.0//DE
VERSION:2.0
METHOD:PUBLISH
BEGIN:VEVENT
DTSTART:20241103T090000Z
DTEND:20241103T100000Z
LOCATION:Kirche\, Platte\, 8800 Thalwil
TRANSP:OPAQUE
SEQUENCE:0
UID:33048-veranstaltung@kirche-thalwil.ch
DTSTAMP:20241022T084640Z
DESCRIPTION:Abendmahlsgottesdienst mit Installation von Pfr. Renato
  Pfeffer\n\nverstaubt – emanzipiert: \nvom reformierten Umgang mit
  Kirchenbildern\n\nMit Vizedekanin Pfrn. Alke de Groot\, Pfr. Jürg-Markus
  Meier\, Pfr. Renato Pfeffer\n\nIm Anschluss: Apéro riche mit kurzen
  Reden \nKirchgemeindehaus\, Alte Landstrasse 93a\, Thalwil\n\n\nKontakt:
  Jürg-Markus Meier\n\nWeitere Infos:
  https://www.kirche-thalwil.ch/veranstaltung/33048
SUMMARY:Reformationssonntag
PRIORITY:5
X-MICROSOFT-CDO-IMPORTANCE:1
CLASS:PUBLIC
END:VEVENT
END:VCALENDAR
