BEGIN:VCALENDAR
PRODID:-//kirchenweb.ch gmbh//veranstaltungsausgabe v2.0//DE
VERSION:2.0
METHOD:PUBLISH
BEGIN:VEVENT
DTSTART:20241027T090000Z
DTEND:20241027T100000Z
LOCATION:Chilbiplatz\, \, 8800 Thalwil
TRANSP:OPAQUE
SEQUENCE:0
UID:33047-veranstaltung@kirche-thalwil.ch
DTSTAMP:20241003T080319Z
DESCRIPTION:Feiern auf dem Chilbiplatz und offener Kirchturm\n\nBald ist
  wieder Chilbi in Thalwil\, noch wissen wir nicht\, ob wir dann
  Pelzkappe\, Sonnenbrille oder Regenschirm tragen. Wir wissen aber\, dass
  die Chilbi auch 2024 der bedeutendste gesellschaftliche Treffpunkt im
  Dorf sein wird. Und wir wissen\, dass die Chilbi auf die Kirchweih vom
  24. Oktober 1847 zurückgeht.\nAuch wenn dieser Tag damals in eine
  politisch unruhige Zeit fiel\, so war er ein grosses\, prägendes
  Ereignis. Nach Jahrhunderten mit der alten Dorfkirche erhielt das
  aufstrebende Thalwil eine moderne Kirche\, die auf verschiedene Weise
  einzigartig ist. In den letzten beiden Jahren\, 2022 und 2023\, wurde das
  175-Jahre-Jubiläum der Dorfkirche würdig und mit vielen schönen
  Anlässen gefeiert.\n\nSeitdem wissen nicht nur die Reformierten\,
  sondern das ganze Dorf weiss\, was wir mit unserer Kirche für einen
  besonderen Ort haben – ein Haus in dem auch heute gelebt\, gefeiert\,
  gelesen\, musiziert und diskutiert wird.\n\nZu neuer Blüte kam dank dem
  erfolgreichen Fundraising der Kirchturm mit seiner öffentlich
  zugänglichen Plattform. Seit dem Auffahrtstag ist der Turm alle zwei
  Wochen am Samstag während zwei Stunden offen. Während der Chilbi gelten
  nun zusätzliche Öffnungszeiten. Warum nicht auf den Turm steigen und
  das Riesenrad auf dem Chilbiplatz von oben sehen? Möglich machen dies
  verdankenswerterweise die fünf Turmwächter-Teams. Der offene Kirchturm
  wird angeboten am Chilbisamstag und Sonntag jeweils am Nachmittag und am
  Abend\, wenn er sich als «Leuchtturm» präsentiert.\n\nDer
  Festgottesdienst findet am Sonntagmorgen um 10 Uhr beim Chilbiplatz auf
  der Scooterbahn statt. Es wirken mit: die neue Chilbipfarrerin Beatrice
  Teuscher\, Dorfpfarrer Jürg-Markus Meier und der Posaunenchor Nidelbad.
  Im Anschluss trifft man sich für ein wärmendes – oder kühlendes
  Getränk zum Apéro in der Schützenhalle. Let’s go ... zum offenen
  Turm und zum Festgottesdienst.\n\n- - - - - - - - - - - - - - - - - - - -
  - - - - - - - - - - - -\n\nOffener Kirchturm\n\nSamstag\, 26. Oktober
 \n14.00 – 17.00 Uhr und 19.00 – 21.00 Uhr\n\nSonntag\, 27. Oktober
 \n14.00 – 17.00 Uhr und 18.00 – 19.00 Uhr\n\nWeitere Öffnungszeiten
  finden Sie https://www.kirche-thalwil.ch/kirchturm.\n\n- - - - - - - - -
  - - - - - - - - - - - - - - - - - - - - - - -\n\nKontakt: Jürg-Markus
  Meier\n\nWeitere Infos: https://www.kirche-thalwil.ch/veranstaltung/33047
SUMMARY:Chilbi Gottesdienst
PRIORITY:5
X-MICROSOFT-CDO-IMPORTANCE:1
CLASS:PUBLIC
END:VEVENT
END:VCALENDAR
