BEGIN:VCALENDAR
PRODID:-//kirchenweb.ch gmbh//veranstaltungsausgabe v2.0//DE
VERSION:2.0
METHOD:PUBLISH
BEGIN:VEVENT
DTSTART:20241013T080000Z
DTEND:20241013T090000Z
LOCATION:Kirche\, Platte\, 8800 Thalwil
TRANSP:OPAQUE
SEQUENCE:0
UID:33045-veranstaltung@kirche-thalwil.ch
DTSTAMP:20241008T082920Z
DESCRIPTION:Predigtreihe zu Jürgen Moltmann\n\nKontakt: Jürg-Markus
  Meier\n\nWeitere Infos: https://www.kirche-thalwil.ch/veranstaltung/33045
SUMMARY:Gottesdienst mit Taufe
PRIORITY:5
X-MICROSOFT-CDO-IMPORTANCE:1
CLASS:PUBLIC
END:VEVENT
END:VCALENDAR
