BEGIN:VCALENDAR
PRODID:-//kirchenweb.ch gmbh//veranstaltungsausgabe v2.0//DE
VERSION:2.0
METHOD:PUBLISH
BEGIN:VEVENT
DTSTART:20241006T080000Z
DTEND:20241006T090000Z
LOCATION:Kirche\, Platte\, 8800 Thalwil
TRANSP:OPAQUE
SEQUENCE:0
UID:33044-veranstaltung@kirche-thalwil.ch
DTSTAMP:20241004T041819Z
DESCRIPTION:Wie stehen die Zeichen der Zeit?\nKriege wüten\, unser Klima
  erwärmt sich\, die Biodiversität nimmt ab. Während einige Menschen
  bereits jede Hoffnung aufgeben und das Ende unserer Zivilisation
  voraussagen\, kämpfen andere unerschütterlich weiter für eine
  friedliche und gerechte Welt\, auf der sich wieder besser leben lässt.\n
 \nDie Autorinnen und Autoren der Bibel spielen manchmal auf Tageszeiten
  an\, um die Zeichen der Zeit zu deuten. So schreibt der Prophet Jeremia:
  Wehe uns\, der Tag neigt sich\, die Schatten des Abends werden länger\,
  um die kriegerische Bedrohung Israels aus dem Norden und den Untergang
  Jerusalems anzukündigen (Jeremia 6\, 1 - 5).\nPaulus wiederum greift auf
  die Mitte der Nacht zurück\, um auf die bevorstehende Rettung von Gott
  her hinzuweisen: Die Nacht ist vorgerückt\, bald wird es Tag
  (Römerbrief 13\,11).\n\nWelches nun der Tages Zeiten passt auf unsere
  Zeit? Und welche der Tageszeiten würden wir selbe zur Beschreibung der
  aktuellen Lage unseres Planeten wählen?\nIn diesem Gottesdienst gehen
  wir den Vorahnungen nach\, mit denen Jeremia und Paulus die  Zeichen der
  Zeit zu deuten versuchen. \n\nKontakt: Arend Hoyer\n\nWeitere Infos:
  https://www.kirche-thalwil.ch/veranstaltung/33044
SUMMARY:Gottesdienst
PRIORITY:5
X-MICROSOFT-CDO-IMPORTANCE:1
CLASS:PUBLIC
END:VEVENT
END:VCALENDAR
