BEGIN:VCALENDAR
PRODID:-//kirchenweb.ch gmbh//veranstaltungsausgabe v2.0//DE
VERSION:2.0
METHOD:PUBLISH
BEGIN:VEVENT
DTSTART:20240929T080000Z
DTEND:20240929T090000Z
LOCATION:Kirche\, Platte\, 8800 Thalwil
TRANSP:OPAQUE
SEQUENCE:0
UID:33043-veranstaltung@kirche-thalwil.ch
DTSTAMP:20240924T051739Z
DESCRIPTION:Feiern Sie aktiv mit\, stimmen Sie ein! Vor dem Gottesdienst
  treffen wir uns um 9 Uhr in der Kirche. Gemeinsam singen wir die Lieder
  für den Gottesdienst\, frischen Altes auf und lernen Neues kennen.
  Danach stärken wir uns mit Kaffee und Zopf.\nIm Gottesdienst setzen wir
  uns in die Gemeinde und lassen den Gesang kräftig klingen. Es sind keine
  Vorkenntnisse nötig. Wer Freude am Singen hat\, ist herzlich willkommen.
 \n\n\nAuf den Spuren von David und Jonathan: Die Nächstenliebe! \nWissen
  wir noch\, wie sich das anfühlt?\nPaulus schreibt 'seiner' Gemeinde in
  Rom das Gebot der Nächstenliebe ins Stammbuch und folgt dabei dem
  Beispiel Jesu\, der sich seinerseits auf Gottes Gebot in der Thora
  bezieht (Römer 13\, 8 – 10)\n\nDoch was ist aus der Nächstenliebe
  unter uns geworden?\nNach zweitausend Jahren christliche Kirche hat
  dieser Begriff sehr an Kraft\, ja sogar an Glaubwürdigkeit verloren -
  nicht einmal nur der Missbrauchserfahrungen mit Geistlichen
  unterschiedlicher Konfessionen wegen. Nein\, unsere Gesellschaft hat sich
  angewöhnt\, ohne dieses 'Gebot' leben zu wollen\, oder meint\, wir
  hätten es schon längst erfüllt\, was natürlich nicht stimmt. \n\nIn
  der Liebe\, die beide Heerführer Jonathan und David verbindet finden wir
  spuren dessen\, was uns auch heute zum Thema "Nächstenliebe" ansprechen
  kann. (1 Sam 18\,1-4; 20\,5-8; 2 Sam 1\,25f)\n\nKontakt: Arend Hoyer\n
 \nWeitere Infos: https://www.kirche-thalwil.ch/veranstaltung/33043
SUMMARY:Gottesdienst mit Einsingen
PRIORITY:5
X-MICROSOFT-CDO-IMPORTANCE:1
CLASS:PUBLIC
END:VEVENT
END:VCALENDAR
