BEGIN:VCALENDAR
PRODID:-//kirchenweb.ch gmbh//veranstaltungsausgabe v2.0//DE
VERSION:2.0
METHOD:PUBLISH
BEGIN:VEVENT
DTSTART:20240922T080000Z
DTEND:20240922T090000Z
LOCATION:Kirche\, Platte\, 8800 Thalwil
TRANSP:OPAQUE
SEQUENCE:0
UID:33042-veranstaltung@kirche-thalwil.ch
DTSTAMP:20240917T090623Z
DESCRIPTION:Reich beschenkt? – Reich beschenkt!\nEin Riesenkürbis und
  ein Korb voller Äpfel und Quitten\, Kartoffeln\, Sonnenblumen– in der
  reich geschmückten Kirche kommt die Fülle der Natur und unsere Früchte
  des Labyrinthes schön zur Geltung. Aber: Wir ernten mehr als das in
  einem Jahr!\n\nAnschliessend Tavolata\nÄlplermakronen mit Apfelmus.
  Bitte https://www.kirche-thalwil.ch/bericht/2049 anmelden.\n\nKontakt:
  Julia Matucci-Gros\n\nWeitere Infos:
  https://www.kirche-thalwil.ch/veranstaltung/33042
SUMMARY:FamilienKirche zum Erntedank
PRIORITY:5
X-MICROSOFT-CDO-IMPORTANCE:1
CLASS:PUBLIC
END:VEVENT
END:VCALENDAR
