BEGIN:VCALENDAR
PRODID:-//kirchenweb.ch gmbh//veranstaltungsausgabe v2.0//DE
VERSION:2.0
METHOD:PUBLISH
BEGIN:VEVENT
DTSTART:20240908T080000Z
DTEND:20240908T090000Z
LOCATION:Traumgarten\, Zürcherstrasse 63\, 8800 Thalwil
TRANSP:OPAQUE
SEQUENCE:0
UID:33040-veranstaltung@kirche-thalwil.ch
DTSTAMP:20240828T065718Z
DESCRIPTION:Umgeben von Sträuchern und Gräsern feiern wir die Lisa
  Lardis Taufe.\n\nÜberwältigt von einer von ihm noch nie wahrgenommen
  Natur betritt 1555 der französische Schuster Jean de Léry die Küste
  vor dem heutigen Rio de Janeiro. Ihm fallen als frisch gebackener
  Reformierter vor Begeisterung einzig die Worte des Psalms 104 ein\, die
  er laut rezitiert\, während er die überreiche Artenvielfallt bestaunt\,
  die ihn umgibt. De Léry wird auch von den Menschen so positiv
  beeindruckt\, dass er vom berühmten Ethnologen Claude Lévi-Strauss des
  20. Jahrhunderts zum ersten Ethnologen überhaupt gekürt wurde. \n\nWir
  Reformierte sind eher für unsere trockene Art bekannt\, den Aufgaben zu
  begegnen\, die das Leben an uns stellt. Die Bibel und de Lérys Haltung
  der Natur gegenüber belehren uns eines Besseren und laden uns ein\, uns
  zunächst an der Artenvielfalt zu freuen\, bevor wir "Massnahmen"
  ergreifen\, um sie "schützen" zu wollen. \n\nAn seinem Akkordeon führt
  Oleg Lips uns durch eine Klangwelt\, die auf ihre Art zum Lauschen und
  Staunen über Gottes reiche Schöpfung einlädt. \n\n\n\n\nKontakt: Arend
  Hoyer\n\nWeitere Infos: https://www.kirche-thalwil.ch/veranstaltung/33040
SUMMARY:Gottesdienst im Traumgarten zur SchöpfungsZeit
PRIORITY:5
X-MICROSOFT-CDO-IMPORTANCE:1
CLASS:PUBLIC
END:VEVENT
END:VCALENDAR
