BEGIN:VCALENDAR
PRODID:-//kirchenweb.ch gmbh//veranstaltungsausgabe v2.0//DE
VERSION:2.0
METHOD:PUBLISH
BEGIN:VEVENT
DTSTART:20250102T100000Z
DTEND:20250102T110000Z
LOCATION:Kirche\, \,
TRANSP:OPAQUE
SEQUENCE:0
UID:32942-veranstaltung@kirche-thalwil.ch
DTSTAMP:20241211T103128Z
DESCRIPTION:«Fröhlich zwitschernd ins neue Jahr»\nThibault Viviani\,
  Flöten\, Gerda Dillmann\, Orgel\nDer Blockflötist Thibault Viviani
  bringt seine Sammlung an Flöten in die Kirche. Vom Sopranino über die
  Nasenflöte bis zur mannshohen Bassflöte ist alles dabei. Zusammen mit
  Gerda Dillmann an der Orgel spielt er Musik von der Renaissance bis Jazz
  virtuos\, frisch und voller Überraschungen.\n\n\n\nKontakt: Gabriela
  Schöb\, Kantorin\n\nWeitere Infos:
  https://www.kirche-thalwil.ch/veranstaltung/32942
SUMMARY:Thalwiler Konzerte – Neujahrsmatinee
PRIORITY:5
X-MICROSOFT-CDO-IMPORTANCE:1
CLASS:PUBLIC
END:VEVENT
END:VCALENDAR
