BEGIN:VCALENDAR
PRODID:-//kirchenweb.ch gmbh//veranstaltungsausgabe v2.0//DE
VERSION:2.0
METHOD:PUBLISH
BEGIN:VEVENT
DTSTART:20241215T160000Z
DTEND:20241215T170000Z
LOCATION:Kirche\, \,
TRANSP:OPAQUE
SEQUENCE:0
UID:32941-veranstaltung@kirche-thalwil.ch
DTSTAMP:20241126T105033Z
DESCRIPTION:«Kommet ihr Hirten» Weihnachtsorgelkonzert mit Offenem
  Singen\nGerda Dillmann\, Orgel Gabriela Schöb Freitag\, Kantorin\nDie
  Organistin spielt Bearbeitungen des bekannten Liedes u.a. aus der Feder
  der schweizerisch-slowakischen Komponistin Iris Szeghy. Die Kantorin
  stimmt gemeinsam mit dem Publikum weihnächtliche Hirtenlieder an.\n\n
 \nKontakt: Gabriela Schöb\, Kantorin\n\nWeitere Infos:
  https://www.kirche-thalwil.ch/veranstaltung/32941
SUMMARY:Thalwiler Konzerte – Weihnachtsorgelkonzert mit Offenem Singen
PRIORITY:5
X-MICROSOFT-CDO-IMPORTANCE:1
CLASS:PUBLIC
END:VEVENT
END:VCALENDAR
