BEGIN:VCALENDAR
PRODID:-//kirchenweb.ch gmbh//veranstaltungsausgabe v2.0//DE
VERSION:2.0
METHOD:PUBLISH
BEGIN:VEVENT
DTSTART:20241026T063000Z
DTEND:20241026T083000Z
LOCATION:Kirchgemeindehaus\, Alte Landstrasse 93a\, 8800 Thalwil
TRANSP:OPAQUE
SEQUENCE:0
UID:32920-veranstaltung@kirche-thalwil.ch
DTSTAMP:20241024T094450Z
DESCRIPTION:Begegnungszeit für Frauen:\nEinen kleinen Zmorgen geniessen
  und offen sein für das\, was sich ergibt.\nZeit: 08.30 - 10.30 Uhr
 \nMonique Meyer-Fausch\, Silvana Schoch\n\nKontakt: Silvana Schoch
 \nTödistrasse 55\n8800 Thalwil\nTel. 044 721 15 82\n079 330 56 93
 \nsilvana.schoch@bluewin.ch\n\nWeitere Infos:
  https://www.kirche-thalwil.ch/veranstaltung/32920
SUMMARY:Frauenzeit Oase-Zmorge
PRIORITY:5
X-MICROSOFT-CDO-IMPORTANCE:1
CLASS:PUBLIC
END:VEVENT
END:VCALENDAR
