BEGIN:VCALENDAR
PRODID:-//kirchenweb.ch gmbh//veranstaltungsausgabe v2.0//DE
VERSION:2.0
METHOD:PUBLISH
BEGIN:VEVENT
DTSTART:20241116T180000Z
DTEND:20241116T190000Z
LOCATION:Kirche\, Platte\, 8800 Thalwil
TRANSP:OPAQUE
SEQUENCE:0
UID:32556-veranstaltung@kirche-thalwil.ch
DTSTAMP:20241112T101106Z
DESCRIPTION:Kantoreien Thalwil und Horgen Erika Weiss-Wichert\, Sopran\,
  Antonia Frey\, Alt\, Marcel Fässler\, Tenor\, Hubert Michael Saladin\,
  Bass\, La Chapelle Ancienne\, Gerda Dillmann\, Orgel\, Kantor Daniel
  Pérez & Kantorin Gabriela Schöb\, Leitung\nWolfgang Amadeus Mozarts
  letztes\, unvollendetes Werk wird in der neusten\, von Howard Arman
  ergänzten Fassung musiziert. Eingängige\, erschütternde\, packende und
  himmlische Musik zum Totenmonat November. Zweite Aufführung: SO 17.
  November 2024 17.15 Uhr Kirche Horgen\n\nBei beiden Konzerten:\nFreie
  Platzwahl – Reservation nicht möglich\nEintritt frei – Kollekte\n
 \nAnreise mit dem ÖV:\nBitte beachten Sie\, dass am Konzert-Wochenende
  zwischen Zürich\nund Thalwil keine Züge verkehren. Es sing Ersatzbusse
  im Einsatz.\n\n\n\nKontakt: Gabriela Schöb\, Kantorin\n\nWeitere Infos:
  https://www.kirche-thalwil.ch/veranstaltung/32556
SUMMARY:Thalwiler Konzerte – Mozartrequiem
PRIORITY:5
X-MICROSOFT-CDO-IMPORTANCE:1
CLASS:PUBLIC
END:VEVENT
END:VCALENDAR
