BEGIN:VCALENDAR
PRODID:-//kirchenweb.ch gmbh//veranstaltungsausgabe v2.0//DE
VERSION:2.0
METHOD:PUBLISH
BEGIN:VEVENT
DTSTART:20241022T123000Z
DTEND:20241022T143000Z
LOCATION:Kirchgemeindehaus\, Alte Landstrasse 93a\, 8800 Thalwil
TRANSP:OPAQUE
SEQUENCE:0
UID:32211-veranstaltung@kirche-thalwil.ch
DTSTAMP:20240924T065333Z
DESCRIPTION:Singen - einfach so\nDer Singkreis Thalwil singt mit dem
  Seniorenchor Horgen.\nEin Singnachmittag für alle! Im Anschluss gibt es
  Café und Kuchen.\n\nLeitung Kantor Daniel Pérez\, Horgen\, Kantorin
  Gabriela Schöb\, Thalwil\n\nKontakt: Gabriela Schöb\, Kantorin\n
 \nWeitere Infos: https://www.kirche-thalwil.ch/veranstaltung/32211
SUMMARY:Singkreis – H2OT-Singnachmittag
PRIORITY:5
X-MICROSOFT-CDO-IMPORTANCE:1
CLASS:PUBLIC
END:VEVENT
END:VCALENDAR
