BEGIN:VCALENDAR
PRODID:-//kirchenweb.ch gmbh//veranstaltungsausgabe v2.0//DE
VERSION:2.0
METHOD:PUBLISH
BEGIN:VEVENT
DTSTART:20190127T160000Z
DTEND:20190127T170000Z
LOCATION:Kirche\, \,
TRANSP:OPAQUE
SEQUENCE:0
UID:18906-veranstaltung@kirche-thalwil.ch
DTSTAMP:20181220T073825Z
DESCRIPTION:Get On Board\nGospelchor Thalwil\, Felix Bachmann\, Leitung
 \nGospelkonzert\nGospel-Perlen mit ergreifender Melodie\, geistreichem
  Text und packendem Rhythmus – mal mit vielstimmigem Chor\, mal als Solo
  – der Gospelchor Thalwil entführt Sie in die mitreissende und zugleich
  besinnliche Welt des Gospels\, des Bluegrass und des Jazz.\n\nKontakt:
  Gabriela Schöb\, Kantorin\n\nWeitere Infos:
  https://www.kirche-thalwil.ch/veranstaltung/18906
SUMMARY:Thalwiler Konzerte - Gospelkonzert
PRIORITY:5
X-MICROSOFT-CDO-IMPORTANCE:1
CLASS:PUBLIC
END:VEVENT
END:VCALENDAR
